BEGIN:VCALENDAR
VERSION:2.0
PRODID:-//wp-events-plugin.com//7.2.3.1//EN
TZID:Europe/London
X-WR-TIMEZONE:Europe/London
BEGIN:VEVENT
UID:9@ravenht.org.uk
DTSTART;TZID=Europe/London:20250524T100000
DTEND;TZID=Europe/London:20250524T120000
DTSTAMP:20250520T095209Z
URL:https://www.ravenht.org.uk/events/tadworth-community-event/
SUMMARY:Tadworth Community Event
DESCRIPTION:Join us and other community partners for this event at Marbles 
 Way Pond in Tadworth. Refreshments available.
ATTACH;FMTTYPE=image/jpeg:https://www.ravenht.org.uk/wp-content/uploads/20
 25/05/Screenshot-2025-05-20-105110.jpg
END:VEVENT
BEGIN:VTIMEZONE
TZID:Europe/London
X-LIC-LOCATION:Europe/London
BEGIN:DAYLIGHT
DTSTART:20250330T020000
TZOFFSETFROM:+0000
TZOFFSETTO:+0100
TZNAME:BST
END:DAYLIGHT
END:VTIMEZONE
END:VCALENDAR