BEGIN:VCALENDAR
VERSION:2.0
PRODID:-//wp-events-plugin.com//7.2.3.1//EN
TZID:Europe/London
X-WR-TIMEZONE:Europe/London
BEGIN:VEVENT
UID:5@ravenht.org.uk
DTSTART;TZID=Europe/London:20250625T100000
DTEND;TZID=Europe/London:20250625T133000
DTSTAMP:20250417T132458Z
URL:https://www.ravenht.org.uk/events/merland-rise-church-advice-cafe-3/
SUMMARY:Merland Rise Church Advice Café
DESCRIPTION:Our Employment team will be at Merland Rise church for this dro
 p in session
ATTACH;FMTTYPE=image/jpeg:https://www.ravenht.org.uk/wp-content/uploads/20
 25/04/enjoying-closeness-close-up-couple-enjoying-fresh-coffee-cafe-togeth
 er-scaled.jpg
END:VEVENT
BEGIN:VTIMEZONE
TZID:Europe/London
X-LIC-LOCATION:Europe/London
BEGIN:DAYLIGHT
DTSTART:20250330T020000
TZOFFSETFROM:+0000
TZOFFSETTO:+0100
TZNAME:BST
END:DAYLIGHT
END:VTIMEZONE
END:VCALENDAR