BEGIN:VCALENDAR
VERSION:2.0
PRODID:-//wp-events-plugin.com//7.2.3.1//EN
TZID:Europe/London
X-WR-TIMEZONE:Europe/London
BEGIN:VEVENT
UID:10@ravenht.org.uk
DTSTART;TZID=Europe/London:20250630T180000
DTEND;TZID=Europe/London:20250630T193000
DTSTAMP:20250604T122235Z
URL:https://www.ravenht.org.uk/events/homeowners-annual-meeting/
SUMMARY:Homeowners Annual Meeting
DESCRIPTION:Join our homeowners meeting for an opportunity to speak with He
 ads of Service from:\n\n 	Repairs\n 	Planned Maintenance\n 	Compliance\n 	
 Neighbourhood Services\n\nPlease book your space by emailing shuna.china@r
 avenht.org.uk.
ATTACH;FMTTYPE=image/jpeg:https://www.ravenht.org.uk/wp-content/uploads/20
 25/02/RHT_120724_nrp-420-scaled.jpg
END:VEVENT
BEGIN:VTIMEZONE
TZID:Europe/London
X-LIC-LOCATION:Europe/London
BEGIN:DAYLIGHT
DTSTART:20250330T020000
TZOFFSETFROM:+0000
TZOFFSETTO:+0100
TZNAME:BST
END:DAYLIGHT
END:VTIMEZONE
END:VCALENDAR