BEGIN:VCALENDAR
VERSION:2.0
PRODID:-//wp-events-plugin.com//7.2.3.1//EN
TZID:Europe/London
X-WR-TIMEZONE:Europe/London
BEGIN:VEVENT
UID:8@ravenht.org.uk
DTSTART;TZID=Europe/London:20250605T130000
DTEND;TZID=Europe/London:20250605T150000
DTSTAMP:20250513T110239Z
URL:https://www.ravenht.org.uk/events/career-advice-workshop-for-health-an
 d-fitness/
SUMMARY:Career advice workshop for health and fitness
DESCRIPTION:Looking for a career in health and fitness? Join our free caree
 r advice workshop at the community room at West Mount (57 Linkfield Lane\,
  Redhill\, RH1 1SY).\n\nContact our Employment team for more information a
 nd to book your place - employment@ravenht.org.uk.
ATTACH;FMTTYPE=image/jpeg:https://www.ravenht.org.uk/wp-content/uploads/20
 25/05/beautiful-sports-couple-is-engaged-gym-scaled.jpg
END:VEVENT
BEGIN:VTIMEZONE
TZID:Europe/London
X-LIC-LOCATION:Europe/London
BEGIN:DAYLIGHT
DTSTART:20250330T020000
TZOFFSETFROM:+0000
TZOFFSETTO:+0100
TZNAME:BST
END:DAYLIGHT
END:VTIMEZONE
END:VCALENDAR